BEGIN:VCALENDAR
VERSION:2.0
PRODID:-//IVA PLANTS - ECPv6.15.13.1//NONSGML v1.0//EN
CALSCALE:GREGORIAN
METHOD:PUBLISH
X-ORIGINAL-URL:https://ivaplants.co.uk
X-WR-CALDESC:Events for IVA PLANTS
REFRESH-INTERVAL;VALUE=DURATION:PT1H
X-Robots-Tag:noindex
X-PUBLISHED-TTL:PT1H
BEGIN:VTIMEZONE
TZID:UTC
BEGIN:STANDARD
TZOFFSETFROM:+0000
TZOFFSETTO:+0000
TZNAME:UTC
DTSTART:20240101T000000
END:STANDARD
END:VTIMEZONE
BEGIN:VEVENT
DTSTART;TZID=UTC:20250316T100000
DTEND;TZID=UTC:20250316T150000
DTSTAMP:20260421T182318
CREATED:20250401T184357Z
LAST-MODIFIED:20250401T184705Z
UID:2752-1742119200-1742137200@ivaplants.co.uk
SUMMARY:Duck Pond Market - Ruislip
DESCRIPTION:Join IVA Plants at Duck Pond Market – Ruislip – 16 March 2025 \nCelebrate the season with IVA Plants at Duck Pond Market in Ruislip on Sunday\, 16 March 2025. Held at The Great Barn\, Manor Farm\, Ruislip\, HA4 7QL\, the market runs from 10:00am to 3:00pm and offers a great opportunity to discover high-quality handmade goods and seasonal treats. \nWe’ll be showcasing our full range of hand-blended loose-leaf teas\, including bold black Ceylon\, refined Japanese green\, and fragrant herbal blends — all crafted from natural ingredients with no additives. Our beautifully packaged teas make the perfect addition to your pantry or a thoughtful gift. \n📍 Duck Pond Market – Ruislip📅 Sunday\, 16 March 2025🕙 10:00am to 3:00pm📌 The Great Barn\, Manor Farm\, Ruislip\, HA4 7QL \nCome by to enjoy exceptional teas and discover unique gifts for every occasion.
URL:https://ivaplants.co.uk/event/duck-pond-market-ruislip-16-march-2025-tea/
LOCATION:Duck Pond Market – Ruislip\, Great Barn\, Manor Farm\, Bury St\, Ruislip\, HA4 7QL\, United Kingdom
CATEGORIES:Ruislip
END:VEVENT
END:VCALENDAR