BEGIN:VCALENDAR
VERSION:2.0
PRODID:-//IVA PLANTS - ECPv6.15.13.1//NONSGML v1.0//EN
CALSCALE:GREGORIAN
METHOD:PUBLISH
X-WR-CALNAME:IVA PLANTS
X-ORIGINAL-URL:https://ivaplants.co.uk
X-WR-CALDESC:Events for IVA PLANTS
REFRESH-INTERVAL;VALUE=DURATION:PT1H
X-Robots-Tag:noindex
X-PUBLISHED-TTL:PT1H
BEGIN:VTIMEZONE
TZID:UTC
BEGIN:STANDARD
TZOFFSETFROM:+0000
TZOFFSETTO:+0000
TZNAME:UTC
DTSTART:20240101T000000
END:STANDARD
END:VTIMEZONE
BEGIN:VEVENT
DTSTART;TZID=UTC:20250803T100000
DTEND;TZID=UTC:20250803T150000
DTSTAMP:20260421T053434
CREATED:20250612T132834Z
LAST-MODIFIED:20250612T132834Z
UID:2963-1754215200-1754233200@ivaplants.co.uk
SUMMARY:Duck Pond Market - Ruislip
DESCRIPTION:Join IVA Plants at Duck Pond Market – Ruislip – Sunday\, 3 August 2025 \nWe’re back at the beautiful Duck Pond Market in Ruislip on Sunday\, 3 August\, from 10:00am to 3:00pm at The Great Barn (HA4 7QL). \nCome explore a mix of artisan stalls\, local food\, handmade gifts – and of course\, our full collection of teas. From rich Ceylon black and smooth Japanese greens to naturally fragrant herbal blends\, every tea is made with real ingredients and no additives\, then packed with care. \n📍 Duck Pond Market – Ruislip📅 Sunday\, 3 August 2025🕙 10:00am to 3:00pm📌 The Great Barn\, Manor Farm\, Ruislip\, HA4 7QL \nStop by for a browse\, a chat\, and something refreshing to take home.
URL:https://ivaplants.co.uk/event/duck-pond-market-ruislip-august-2025/
LOCATION:Duck Pond Market – Ruislip\, Great Barn\, Manor Farm\, Bury St\, Ruislip\, HA4 7QL\, United Kingdom
CATEGORIES:Ruislip
END:VEVENT
END:VCALENDAR