BEGIN:VCALENDAR
VERSION:2.0
PRODID:-//IVA PLANTS - ECPv6.15.13.1//NONSGML v1.0//EN
CALSCALE:GREGORIAN
METHOD:PUBLISH
X-WR-CALNAME:IVA PLANTS
X-ORIGINAL-URL:https://ivaplants.co.uk
X-WR-CALDESC:Events for IVA PLANTS
REFRESH-INTERVAL;VALUE=DURATION:PT1H
X-Robots-Tag:noindex
X-PUBLISHED-TTL:PT1H
BEGIN:VTIMEZONE
TZID:UTC
BEGIN:STANDARD
TZOFFSETFROM:+0000
TZOFFSETTO:+0000
TZNAME:UTC
DTSTART:20230101T000000
END:STANDARD
END:VTIMEZONE
BEGIN:VEVENT
DTSTART;TZID=UTC:20240525T100000
DTEND;TZID=UTC:20240527T170000
DTSTAMP:20260421T185051
CREATED:20250401T183549Z
LAST-MODIFIED:20250401T183556Z
UID:2749-1716631200-1716829200@ivaplants.co.uk
SUMMARY:The Foodies Festival - Syon Park\, London
DESCRIPTION:Join IVA Plants at Foodies Festival London – Syon Park – 25–27 May 2024 \nIVA Plants is excited to be part of the Foodies Festival at Syon Park from Saturday\, 25 May to Monday\, 27 May 2024. This premier food and drink event brings together food lovers\, local producers\, and craft makers for a weekend of delicious discovery. \n📅 Saturday\, 25 May – 10:00am to 6:00pm📅 Sunday\, 26 May – 10:00am to 6:00pm📅 Monday\, 27 May – 10:00am to 5:00pm \nYou’ll find us at our stall at the Artisan Farmers Market within the festival\, where we’ll be showcasing our hand-blended herbal teas and cooking herbs. Whether you’re looking for refreshing herbal infusions or fresh herbs for your kitchen\, we’ve got something to suit every taste. \n📍 Foodies Festival – Syon Park📌 Syon Park\, Brentford\, London \nCome visit our stall to sample our exceptional herbal teas\, learn about our cooking herbs\, and take advantage of exclusive event offers.
URL:https://ivaplants.co.uk/event/the-foodies-festival-syon-park-london-2024/
LOCATION:The Foodies Festival @ Syon Park\, London\, Syon Park\, Brent Lea\, Brentford\, TW8 8JF\, United Kingdom
CATEGORIES:London
END:VEVENT
END:VCALENDAR