BEGIN:VCALENDAR
VERSION:2.0
PRODID:-//IVA PLANTS - ECPv6.15.13.1//NONSGML v1.0//EN
CALSCALE:GREGORIAN
METHOD:PUBLISH
X-WR-CALNAME:IVA PLANTS
X-ORIGINAL-URL:https://ivaplants.co.uk
X-WR-CALDESC:Events for IVA PLANTS
REFRESH-INTERVAL;VALUE=DURATION:PT1H
X-Robots-Tag:noindex
X-PUBLISHED-TTL:PT1H
BEGIN:VTIMEZONE
TZID:UTC
BEGIN:STANDARD
TZOFFSETFROM:+0000
TZOFFSETTO:+0000
TZNAME:UTC
DTSTART:20230101T000000
END:STANDARD
END:VTIMEZONE
BEGIN:VEVENT
DTSTART;TZID=UTC:20240803T093000
DTEND;TZID=UTC:20240803T150000
DTSTAMP:20260421T190944
CREATED:20250401T145941Z
LAST-MODIFIED:20250401T150610Z
UID:2674-1722677400-1722697200@ivaplants.co.uk
SUMMARY:Brook Green Market
DESCRIPTION:Meet IVA Plants at Brook Green Market – 3 August 2024 \nIVA Plants is joining the vibrant Brook Green Market on Saturday\, 3 August 2024\, for a day of good food\, friendly faces\, and exceptional teas. Located at Addison Primary School\, just off Bolingbroke Road\, London W14 0DT\, the market runs from 9:30am to 3:00pm\, showcasing local producers and artisan makers. \nWe’ll be bringing our full selection of hand-blended loose-leaf teas\, including bold black Ceylon\, refined Japanese green\, and a diverse range of herbal blends — all made from natural ingredients with no additives. \nCome and explore teas made with care\, crafted for everyday enjoyment or meaningful gifting. \n📍 Brook Green Market📅 Saturday\, 3 August 2024🕤 9:30am to 3:00pm📌 Addison Primary School\, Bolingbroke Rd\, London W14 0DT \nSpend your Saturday discovering flavours worth pausing for — with IVA Plants.
URL:https://ivaplants.co.uk/event/brook-green-market-3-august-2024-herbal-tea/
LOCATION:Brook Green Market\, Addison Primary School\, Bolingbroke Rd\, London\, W14 0DT\, United Kingdom
CATEGORIES:Hammersmith and Fulham
END:VEVENT
BEGIN:VEVENT
DTSTART;TZID=UTC:20240728T100000
DTEND;TZID=UTC:20240728T140000
DTSTAMP:20260421T190944
CREATED:20250401T113850Z
LAST-MODIFIED:20250401T143913Z
UID:2545-1722160800-1722175200@ivaplants.co.uk
SUMMARY:The Food Market Chiswick
DESCRIPTION:Meet IVA Plants at Food Market Chiswick – 28 July 2024 \nWe’re returning to the Food Market Chiswick on Sunday\, 28 July 2024\, with our full range of hand-crafted teas. Taking place at The Pavilion\, Chiswick\, W4 2RX\, the market runs from 10am to 2pm and is a favourite spot for discovering artisan food and drink in West London. \nVisit our stall to explore naturally blended loose-leaf teas\, free from additives and full of flavour. Whether you’re in the mood for bold black Ceylon\, smooth Japanese green\, or gentle herbal infusions\, there’s something special waiting just for you.
URL:https://ivaplants.co.uk/event/the-food-market-chiswick-28-july-2024-herbal-tea/
LOCATION:The Food Market Chiswick\, Pavilion\, Market Drive\, Chiswick\, W4 2RX\, United Kingdom
CATEGORIES:Chiswick
END:VEVENT
BEGIN:VEVENT
DTSTART;TZID=UTC:20240714T100000
DTEND;TZID=UTC:20240714T140000
DTSTAMP:20260421T190944
CREATED:20250401T105030Z
LAST-MODIFIED:20250401T143904Z
UID:2520-1720951200-1720965600@ivaplants.co.uk
SUMMARY:The Food Market Chiswick
DESCRIPTION:Find IVA Plants at Food Market Chiswick – 14 July 2024 \nIVA Plants will be at the Food Market Chiswick on Sunday\, 14 July 2024\, offering our signature collection of hand-blended teas. Held at The Pavilion\, Chiswick\, W4 2RX\, the market is open from 10am to 2pm\, making it an ideal weekend destination for local\, high-quality produce. \nCome and discover our loose-leaf blends made from natural ingredients with no additives. From bold black Ceylon and refreshing Japanese green to calming herbal infusions – there’s something for every tea lover waiting at our stall.
URL:https://ivaplants.co.uk/event/the-food-market-chiswick-14-july-2024-herbal-tea/
LOCATION:The Food Market Chiswick\, Pavilion\, Market Drive\, Chiswick\, W4 2RX\, United Kingdom
CATEGORIES:Chiswick
END:VEVENT
BEGIN:VEVENT
DTSTART;TZID=UTC:20240707T110000
DTEND;TZID=UTC:20240707T163000
DTSTAMP:20260421T190944
CREATED:20250401T121415Z
LAST-MODIFIED:20250401T143857Z
UID:2554-1720350000-1720369800@ivaplants.co.uk
SUMMARY:Duck Pond Market - Chiswick
DESCRIPTION:Meet IVA Plants at Duck Pond Market – Chiswick – 7 July 2024 \nIVA Plants is joining the Duck Pond Market in Chiswick on Sunday\, 7 July 2024\, with our full collection of hand-blended teas. Set in the beautiful grounds of Chiswick House\, the market takes place on Duke’s Avenue\, W4 2QN\, and runs from 11am to 4:30pm\, featuring ethical\, local and artisan producers. \nWe’ll be bringing our naturally crafted loose-leaf teas\, made without additives and blended by hand in the UK. Whether you’re after bold black Ceylon\, delicate Japanese green\, or soothing herbal infusions\, we’ve got a tea you’ll love. \n📍 Duck Pond Market – Chiswick📅 Sunday\, 7 July 2024🕚 11am to 4:30pm📌 Duke’s Avenue\, Chiswick House\, London W4 2QN \nCome and enjoy a lovely day out with good food\, community spirit\, and exceptional tea.
URL:https://ivaplants.co.uk/event/duck-pond-market-chiswick-07-july-2024-tea/
LOCATION:Duck Pond Market – Chiswick\, Chiswick House and Gardens\, Chiswick\, W4 2QN\, United Kingdom
CATEGORIES:Chiswick
END:VEVENT
BEGIN:VEVENT
DTSTART;TZID=UTC:20240630T110000
DTEND;TZID=UTC:20240630T163000
DTSTAMP:20260421T190944
CREATED:20240623T100051Z
LAST-MODIFIED:20250401T144014Z
UID:2450-1719745200-1719765000@ivaplants.co.uk
SUMMARY:Duck Pond Market - Richmond
DESCRIPTION:IVA Plants at Duck Pond Market – Richmond – 30 June 2024 \nJoin IVA Plants at the vibrant Duck Pond Market in Richmond on Sunday\, 30 June 2024\, where we’ll be sharing our hand-blended selection of teas. The market\, known for its focus on ethical\, eco-friendly\, and artisan producers\, runs from 11am to 4:30pm and takes place in the heart of Richmond. \nWe’ll be bringing our full range of loose-leaf teas\, made from natural ingredients with no additives. Explore our herbal infusions – all crafted with care and blended by hand in the UK. \n📍 Duck Pond Market – Richmond📅 Sunday\, 30 June 2024🕙 11am to 4:30pm📌 Heron Square\, Richmond TW9 1EP \nWe’re looking forward to welcoming tea lovers from the local community and beyond!
URL:https://ivaplants.co.uk/event/duck-pond-market-richmond-30-june-2024-herbal-tea/
LOCATION:Duck Pond Marker – Richmond\, Heron Square\, Hill St\, Richmond\, TW9 1EP\, United Kingdom
CATEGORIES:Richmond
END:VEVENT
BEGIN:VEVENT
DTSTART;TZID=UTC:20240623T100000
DTEND;TZID=UTC:20240623T140000
DTSTAMP:20260421T190944
CREATED:20250401T104447Z
LAST-MODIFIED:20250401T144031Z
UID:2517-1719136800-1719151200@ivaplants.co.uk
SUMMARY:The Food Market Chiswick
DESCRIPTION:Find IVA Plants at Food Market Chiswick – 23 June 2024 \nIVA Plants is joining the Food Market Chiswick on Sunday\, 23 June 2024\, bringing our hand-blended herbal\, green\, and black teas to West London. The market takes place at The Pavilion\, Chiswick\, W4 2RX\, and runs from 10am to 2pm — a perfect Sunday spot for discovering local\, high-quality produce. \nStop by to explore our range of loose-leaf teas\, crafted from natural ingredients with no additives. Whether you’re looking for a soothing herbal blend\, a refreshing green tea\, or a bold black Ceylon\, you’ll find something special at our stall.
URL:https://ivaplants.co.uk/event/food-market-chiswick-23-june-2024-herbal-tea/
LOCATION:The Food Market Chiswick\, Pavilion\, Market Drive\, Chiswick\, W4 2RX\, United Kingdom
CATEGORIES:Chiswick
END:VEVENT
BEGIN:VEVENT
DTSTART;TZID=UTC:20240525T100000
DTEND;TZID=UTC:20240527T170000
DTSTAMP:20260421T190944
CREATED:20250401T183549Z
LAST-MODIFIED:20250401T183556Z
UID:2749-1716631200-1716829200@ivaplants.co.uk
SUMMARY:The Foodies Festival - Syon Park\, London
DESCRIPTION:Join IVA Plants at Foodies Festival London – Syon Park – 25–27 May 2024 \nIVA Plants is excited to be part of the Foodies Festival at Syon Park from Saturday\, 25 May to Monday\, 27 May 2024. This premier food and drink event brings together food lovers\, local producers\, and craft makers for a weekend of delicious discovery. \n📅 Saturday\, 25 May – 10:00am to 6:00pm📅 Sunday\, 26 May – 10:00am to 6:00pm📅 Monday\, 27 May – 10:00am to 5:00pm \nYou’ll find us at our stall at the Artisan Farmers Market within the festival\, where we’ll be showcasing our hand-blended herbal teas and cooking herbs. Whether you’re looking for refreshing herbal infusions or fresh herbs for your kitchen\, we’ve got something to suit every taste. \n📍 Foodies Festival – Syon Park📌 Syon Park\, Brentford\, London \nCome visit our stall to sample our exceptional herbal teas\, learn about our cooking herbs\, and take advantage of exclusive event offers.
URL:https://ivaplants.co.uk/event/the-foodies-festival-syon-park-london-2024/
LOCATION:The Foodies Festival @ Syon Park\, London\, Syon Park\, Brent Lea\, Brentford\, TW8 8JF\, United Kingdom
CATEGORIES:London
END:VEVENT
END:VCALENDAR