BEGIN:VCALENDAR
VERSION:2.0
PRODID:-//IVA PLANTS - ECPv6.15.13.1//NONSGML v1.0//EN
CALSCALE:GREGORIAN
METHOD:PUBLISH
X-WR-CALNAME:IVA PLANTS
X-ORIGINAL-URL:https://ivaplants.co.uk
X-WR-CALDESC:Events for IVA PLANTS
REFRESH-INTERVAL;VALUE=DURATION:PT1H
X-Robots-Tag:noindex
X-PUBLISHED-TTL:PT1H
BEGIN:VTIMEZONE
TZID:UTC
BEGIN:STANDARD
TZOFFSETFROM:+0000
TZOFFSETTO:+0000
TZNAME:UTC
DTSTART:20230101T000000
END:STANDARD
END:VTIMEZONE
BEGIN:VEVENT
DTSTART;TZID=UTC:20241013T100000
DTEND;TZID=UTC:20241013T140000
DTSTAMP:20260420T024111
CREATED:20250401T115124Z
LAST-MODIFIED:20250401T143742Z
UID:2552-1728813600-1728828000@ivaplants.co.uk
SUMMARY:The Food Market Chiswick
DESCRIPTION:Join IVA Plants at Food Market Chiswick – 13 October 2024 \nWe’re back at the Food Market Chiswick on Sunday\, 13 October 2024\, with our full range of artisan teas. Located at The Pavilion\, Chiswick\, W4 2RX\, the market is open from 10am to 2pm and brings together some of the best local producers in West London. \nCome and discover our loose-leaf teas\, hand-blended in the UK using only natural ingredients and no additives. From bold black Ceylon and smooth Japanese green to calming herbal infusions — there’s a perfect cup waiting for you.
URL:https://ivaplants.co.uk/event/the-food-market-chiswick-13-october-2024-herbal-tea/
LOCATION:The Food Market Chiswick\, Pavilion\, Market Drive\, Chiswick\, W4 2RX\, United Kingdom
CATEGORIES:Chiswick
END:VEVENT
BEGIN:VEVENT
DTSTART;TZID=UTC:20240929T100000
DTEND;TZID=UTC:20240929T160000
DTSTAMP:20260420T024111
CREATED:20250401T160019Z
LAST-MODIFIED:20250401T160025Z
UID:2705-1727604000-1727625600@ivaplants.co.uk
SUMMARY:Crocus Autumn Market
DESCRIPTION:Meet IVA Plants at Crocus Autumn Market – 29 September 2024 \nJoin IVA Plants at the Crocus Autumn Market in Windsor on Sunday\, 29 September 2024 for a day of autumn flavours\, seasonal shopping\, and artisan goods. The market takes place at Court Lane\, Dorney\, Windsor\, SL4 6QP\, and runs from 10:00am to 4:00pm. \nWe’ll be offering our full range of hand-blended loose-leaf teas\, featuring bold black Ceylon\, delicate Japanese green\, and fragrant herbal blends — all crafted with natural ingredients and no additives. \n📍 Crocus at Dorney\n📅 Sunday\, 29 September 2024🕙 10:00am to 4:00pm📌 Court Lane\, Dorney\, Windsor\, SL4 6QP \nExperience the season with exceptional teas and discover your new favourite blend.
URL:https://ivaplants.co.uk/event/crocus-autumn-market-29-september-2024/
LOCATION:Crocus Autumn Market\, Court Ln\, Dorney\, Windsor\, SL4 6QP\, United Kingdom
CATEGORIES:Windsor
END:VEVENT
BEGIN:VEVENT
DTSTART;TZID=UTC:20240928T093000
DTEND;TZID=UTC:20240928T150000
DTSTAMP:20260420T024111
CREATED:20250401T153210Z
LAST-MODIFIED:20250401T153210Z
UID:2697-1727515800-1727535600@ivaplants.co.uk
SUMMARY:Brook Green Market
DESCRIPTION:IVA Plants at Brook Green Market – 28 September 2024 \nJoin IVA Plants on Saturday\, 28 September 2024\, at Brook Green Market for a deliciously calm break in your weekend. The market takes place at Addison Primary School\, Bolingbroke Road\, London W14 0DT\, and is open from 9:30am to 3:00pm\, bringing together local food\, drink\, and independent makers. \nWe’ll have our full range of hand-blended loose-leaf teas\, featuring bold black Ceylon\, elegant Japanese green\, and distinctive herbal blends — all made with natural ingredients and no additives. \n📍 Brook Green Market📅 Saturday\, 28 September 2024🕤 9:30am to 3:00pm📌 Addison Primary School\, Bolingbroke Rd\, London W14 0DT \nLet your weekend steep in flavour — visit IVA Plants for something special.
URL:https://ivaplants.co.uk/event/brook-green-market-28-september-2024-tea/
LOCATION:Brook Green Market\, Addison Primary School\, Bolingbroke Rd\, London\, W14 0DT\, United Kingdom
CATEGORIES:Hammersmith and Fulham
END:VEVENT
BEGIN:VEVENT
DTSTART;TZID=UTC:20240922T110000
DTEND;TZID=UTC:20240922T150000
DTSTAMP:20260420T024111
CREATED:20250401T160612Z
LAST-MODIFIED:20250401T160629Z
UID:2708-1727002800-1727017200@ivaplants.co.uk
SUMMARY:Meads Makers Market
DESCRIPTION:Join IVA Plants at Meads Makers Market – 22 September 2024 \nWe’re excited to be at the Meads Makers Market in Eastbourne on Sunday\, 22 September 2024. Held at Meads Hall\, 77 Meads Road\, BN20 7QL\, this market runs from 11:00am to 3:00pm and is a fantastic place to explore unique handmade products\, enjoy a lively community atmosphere\, and discover high-quality goods from local makers. \nWe’ll be showcasing our full selection of hand-blended loose-leaf teas\, including bold black Ceylon\, smooth Japanese green\, and aromatic herbal blends — all crafted with natural ingredients and no additives. \n📍 Meads Makers Market📅 Sunday\, 22 September 2024🕚 11:00am to 3:00pm📌 Meads Hall\, 77 Meads Road\, Eastbourne BN20 7QL \nFree entrance and dogs on leads are welcome — perfect for a relaxed day out with great tea.
URL:https://ivaplants.co.uk/event/meads-makers-market-22-september-2024/
LOCATION:Meads Makers Market\, Meads Hall\, 77 Meads Rr\, Eastbourne\, BN20 7QL\, United Kingdom
CATEGORIES:Eastbourne
END:VEVENT
BEGIN:VEVENT
DTSTART;TZID=UTC:20240921T093000
DTEND;TZID=UTC:20240921T150000
DTSTAMP:20260420T024111
CREATED:20250401T152223Z
LAST-MODIFIED:20250401T153059Z
UID:2692-1726911000-1726930800@ivaplants.co.uk
SUMMARY:Brook Green Market
DESCRIPTION:Meet IVA Plants at Brook Green Market – 21 September 2024 \nIVA Plants is back at Brook Green Market on Saturday\, 21 September 2024\, offering small-batch teas for cooler days and cosy weekends. The market takes place at Addison Primary School\, Bolingbroke Road\, London W14 0DT\, and runs from 9:30am to 3:00pm\, featuring a vibrant mix of artisan producers and local favourites. \nWe’ll be serving our full range of hand-blended loose-leaf teas\, including bold black Ceylon\, smooth Japanese green\, and fragrant herbal blends — all made from natural ingredients with no additives. \n📍 Brook Green Market📅 Saturday\, 21 September 2024🕤 9:30am to 3:00pm📌 Addison Primary School\, Bolingbroke Rd\, London W14 0DT \nLet tea season begin — we’ll have the kettle on.
URL:https://ivaplants.co.uk/event/brook-green-market-21-september-2024-tea/
LOCATION:Brook Green Market\, Addison Primary School\, Bolingbroke Rd\, London\, W14 0DT\, United Kingdom
CATEGORIES:Hammersmith and Fulham
END:VEVENT
BEGIN:VEVENT
DTSTART;TZID=UTC:20240914T093000
DTEND;TZID=UTC:20240914T150000
DTSTAMP:20260420T024111
CREATED:20250401T152837Z
LAST-MODIFIED:20250401T152847Z
UID:2694-1726306200-1726326000@ivaplants.co.uk
SUMMARY:Brook Green Market
DESCRIPTION:Join IVA Plants at Brook Green Market – 14 September 2024 \nWe’re back at Brook Green Market on Saturday\, 14 September 2024\, ready to share our teas with regular visitors and new faces alike. Held at Addison Primary School\, just off Bolingbroke Road\, London W14 0DT\, the market runs from 9:30am to 3:00pm\, featuring fresh produce\, street food\, and artisan stalls. \nStop by our stand to discover hand-blended loose-leaf teas\, including bold black Ceylon\, refined Japanese green\, and flavour-packed herbal blends — all crafted in small batches using natural ingredients with no additives. \n📍 Brook Green Market📅 Saturday\, 14 September 2024🕤 9:30am to 3:00pm📌 Addison Primary School\, Bolingbroke Rd\, London W14 0DT \nStart your weekend with something warm\, natural\, and full of character.
URL:https://ivaplants.co.uk/event/brook-green-market-14-september-2024-tea/
LOCATION:Brook Green Market\, Addison Primary School\, Bolingbroke Rd\, London\, W14 0DT\, United Kingdom
CATEGORIES:Hammersmith and Fulham
END:VEVENT
BEGIN:VEVENT
DTSTART;TZID=UTC:20240908T100000
DTEND;TZID=UTC:20240908T140000
DTSTAMP:20260420T024111
CREATED:20250401T114849Z
LAST-MODIFIED:20250401T143718Z
UID:2550-1725789600-1725804000@ivaplants.co.uk
SUMMARY:The Food Market Chiswick
DESCRIPTION:Join IVA Plants at Food Market Chiswick – 8 September 2024 \nIVA Plants returns to the Food Market Chiswick on Sunday\, 8 September 2024\, with our full selection of hand-crafted teas. Held at The Pavilion\, Chiswick\, W4 2RX\, the market runs from 10am to 2pm\, offering a vibrant atmosphere for lovers of high-quality\, local produce. \nVisit our stand to explore loose-leaf teas made from natural ingredients and free from additives. Whether you prefer bold black Ceylon\, refined Japanese green\, or soothing herbal infusions\, you’ll find a flavour that feels just right.
URL:https://ivaplants.co.uk/event/the-food-market-chiswick-08-september-2024-herbal-tea/
LOCATION:The Food Market Chiswick\, Pavilion\, Market Drive\, Chiswick\, W4 2RX\, United Kingdom
CATEGORIES:Chiswick
END:VEVENT
BEGIN:VEVENT
DTSTART;TZID=UTC:20240907T093000
DTEND;TZID=UTC:20240907T150000
DTSTAMP:20260420T024111
CREATED:20250401T152020Z
LAST-MODIFIED:20250401T152030Z
UID:2689-1725701400-1725721200@ivaplants.co.uk
SUMMARY:Brook Green Market
DESCRIPTION:IVA Plants at Brook Green Market – 7 September 2024 \nJoin us on Saturday\, 7 September 2024\, at Brook Green Market for a flavourful start to the season. Located at Addison Primary School on Bolingbroke Road\, London W14 0DT\, the market runs from 9:30am to 3:00pm\, featuring high-quality local food\, drink\, and artisan producers. \nWe’ll be there with our full range of hand-blended loose-leaf teas\, including bold black Ceylon\, delicate Japanese green\, and aromatic herbal blends — all made in the UK with natural ingredients and no additives. \n📍 Brook Green Market📅 Saturday\, 7 September 2024🕤 9:30am to 3:00pm📌 Addison Primary School\, Bolingbroke Rd\, London W14 0DT \nCome for the market\, stay for the tea — we’ll be happy to see you.
URL:https://ivaplants.co.uk/event/brook-green-market-7-september-2024-herbal-tea/
LOCATION:Brook Green Market\, Addison Primary School\, Bolingbroke Rd\, London\, W14 0DT\, United Kingdom
CATEGORIES:Hammersmith and Fulham
END:VEVENT
BEGIN:VEVENT
DTSTART;TZID=UTC:20240817T093000
DTEND;TZID=UTC:20240817T150000
DTSTAMP:20260420T024111
CREATED:20250401T150938Z
LAST-MODIFIED:20250401T150938Z
UID:2687-1723887000-1723906800@ivaplants.co.uk
SUMMARY:Brook Green Market
DESCRIPTION:Discover IVA Plants at Brook Green Market – 17 August 2024 \nIVA Plants returns to Brook Green Market on Saturday\, 17 August 2024\, offering a fresh selection of loose-leaf teas for curious palates and mindful shoppers. The market is held at Addison Primary School\, just off Bolingbroke Road\, London W14 0DT\, and runs from 9:30am to 3:00pm. \nExplore our range of hand-blended teas\, including rich black Ceylon\, refined Japanese green\, and naturally vibrant herbal blends — all crafted without additives and full of character. \n📍 Brook Green Market📅 Saturday\, 17 August 2024🕤 9:30am to 3:00pm📌 Addison Primary School\, Bolingbroke Rd\, London W14 0DT \nA great weekend starts with good flavour — we’ll be there to pour.
URL:https://ivaplants.co.uk/event/brook-green-market-17-august-2024-herbal-tea/
LOCATION:Brook Green Market\, Addison Primary School\, Bolingbroke Rd\, London\, W14 0DT\, United Kingdom
CATEGORIES:Hammersmith and Fulham
END:VEVENT
BEGIN:VEVENT
DTSTART;TZID=UTC:20240811T100000
DTEND;TZID=UTC:20240811T140000
DTSTAMP:20260420T024111
CREATED:20250401T114247Z
LAST-MODIFIED:20250401T143842Z
UID:2548-1723370400-1723384800@ivaplants.co.uk
SUMMARY:The Food Market Chiswick
DESCRIPTION:Join IVA Plants at Food Market Chiswick – 11 August 2024 \nWe’re delighted to be back at the Food Market Chiswick on Sunday\, 11 August 2024\, bringing along our full collection of hand-blended teas. The market takes place at The Pavilion\, Chiswick\, W4 2RX\, and runs from 10am to 2pm – a perfect spot to enjoy West London’s artisan food scene. \nStop by to explore our naturally crafted loose-leaf teas\, made without additives and rich in flavour. From bold black Ceylon and smooth Japanese green to delicate herbal infusions\, there’s a blend to suit every taste.
URL:https://ivaplants.co.uk/event/the-food-market-chiswick-11-august-2024-herbal-tea/
LOCATION:The Food Market Chiswick\, Pavilion\, Market Drive\, Chiswick\, W4 2RX\, United Kingdom
CATEGORIES:Chiswick
END:VEVENT
BEGIN:VEVENT
DTSTART;TZID=UTC:20240810T093000
DTEND;TZID=UTC:20240810T150000
DTSTAMP:20260420T024111
CREATED:20250401T150249Z
LAST-MODIFIED:20250401T153410Z
UID:2676-1723282200-1723302000@ivaplants.co.uk
SUMMARY:Brook Green Market
DESCRIPTION:Join IVA Plants at Brook Green Market – 10 August 2024 \nWe’re returning to Brook Green Market on Saturday\, 10 August 2024\, bringing our signature loose-leaf teas to one of West London’s most beloved weekend spots. The market takes place at Addison Primary School\, just off Bolingbroke Road\, W14 0DT\, and runs from 9:30am to 3:00pm\, featuring a handpicked selection of local and independent producers. \nOur collection includes bold black Ceylon\, smooth Japanese green\, and flavourful herbal blends\, all hand-blended in the UK from natural ingredients — no additives\, just clean and honest flavour. \n📍 Brook Green Market📅 Saturday\, 10 August 2024🕤 9:30am to 3:00pm📌 Addison Primary School\, Bolingbroke Rd\, London W14 0DT \nDrop by our stall for a warm chat and a taste of something truly refreshing.
URL:https://ivaplants.co.uk/event/brook-green-market-10-august-2024-herbal-tea/
LOCATION:Brook Green Market\, Addison Primary School\, Bolingbroke Rd\, London\, W14 0DT\, United Kingdom
CATEGORIES:Hammersmith and Fulham
END:VEVENT
BEGIN:VEVENT
DTSTART;TZID=UTC:20240804T110000
DTEND;TZID=UTC:20240804T163000
DTSTAMP:20260420T024111
CREATED:20250401T122119Z
LAST-MODIFIED:20250401T143920Z
UID:2556-1722769200-1722789000@ivaplants.co.uk
SUMMARY:Duck Pond Market - Chiswick
DESCRIPTION:Meet IVA Plants at Duck Pond Market – Chiswick – 4 August 2024 \nIVA Plants returns to the Duck Pond Market in Chiswick on Sunday\, 4 August 2024\, with our full range of hand-blended teas. Set in the picturesque surroundings of Chiswick House\, the market is held on Duke’s Avenue\, W4 2QN\, and runs from 11am to 4:30pm\, showcasing ethical\, local\, and artisan makers. \nStop by our stand to explore loose-leaf teas crafted from natural ingredients and free from additives. From bold black Ceylon and refined Japanese green to calming herbal infusions\, there’s something for every taste. \n📍 Duck Pond Market – Chiswick📅 Sunday\, 4 August 2024🕚 11am to 4:30pm📌 Duke’s Avenue\, Chiswick House\, London W4 2QN \nEnjoy a relaxed afternoon with great food\, friendly faces\, and exceptional teas from IVA Plants.
URL:https://ivaplants.co.uk/event/duck-pond-market-chiswick-04-august-2024-herbal-tea/
LOCATION:Duck Pond Market – Chiswick\, Chiswick House and Gardens\, Chiswick\, W4 2QN\, United Kingdom
CATEGORIES:Chiswick
END:VEVENT
BEGIN:VEVENT
DTSTART;TZID=UTC:20240803T093000
DTEND;TZID=UTC:20240803T150000
DTSTAMP:20260420T024111
CREATED:20250401T145941Z
LAST-MODIFIED:20250401T150610Z
UID:2674-1722677400-1722697200@ivaplants.co.uk
SUMMARY:Brook Green Market
DESCRIPTION:Meet IVA Plants at Brook Green Market – 3 August 2024 \nIVA Plants is joining the vibrant Brook Green Market on Saturday\, 3 August 2024\, for a day of good food\, friendly faces\, and exceptional teas. Located at Addison Primary School\, just off Bolingbroke Road\, London W14 0DT\, the market runs from 9:30am to 3:00pm\, showcasing local producers and artisan makers. \nWe’ll be bringing our full selection of hand-blended loose-leaf teas\, including bold black Ceylon\, refined Japanese green\, and a diverse range of herbal blends — all made from natural ingredients with no additives. \nCome and explore teas made with care\, crafted for everyday enjoyment or meaningful gifting. \n📍 Brook Green Market📅 Saturday\, 3 August 2024🕤 9:30am to 3:00pm📌 Addison Primary School\, Bolingbroke Rd\, London W14 0DT \nSpend your Saturday discovering flavours worth pausing for — with IVA Plants.
URL:https://ivaplants.co.uk/event/brook-green-market-3-august-2024-herbal-tea/
LOCATION:Brook Green Market\, Addison Primary School\, Bolingbroke Rd\, London\, W14 0DT\, United Kingdom
CATEGORIES:Hammersmith and Fulham
END:VEVENT
BEGIN:VEVENT
DTSTART;TZID=UTC:20240728T100000
DTEND;TZID=UTC:20240728T140000
DTSTAMP:20260420T024111
CREATED:20250401T113850Z
LAST-MODIFIED:20250401T143913Z
UID:2545-1722160800-1722175200@ivaplants.co.uk
SUMMARY:The Food Market Chiswick
DESCRIPTION:Meet IVA Plants at Food Market Chiswick – 28 July 2024 \nWe’re returning to the Food Market Chiswick on Sunday\, 28 July 2024\, with our full range of hand-crafted teas. Taking place at The Pavilion\, Chiswick\, W4 2RX\, the market runs from 10am to 2pm and is a favourite spot for discovering artisan food and drink in West London. \nVisit our stall to explore naturally blended loose-leaf teas\, free from additives and full of flavour. Whether you’re in the mood for bold black Ceylon\, smooth Japanese green\, or gentle herbal infusions\, there’s something special waiting just for you.
URL:https://ivaplants.co.uk/event/the-food-market-chiswick-28-july-2024-herbal-tea/
LOCATION:The Food Market Chiswick\, Pavilion\, Market Drive\, Chiswick\, W4 2RX\, United Kingdom
CATEGORIES:Chiswick
END:VEVENT
BEGIN:VEVENT
DTSTART;TZID=UTC:20240714T100000
DTEND;TZID=UTC:20240714T140000
DTSTAMP:20260420T024111
CREATED:20250401T105030Z
LAST-MODIFIED:20250401T143904Z
UID:2520-1720951200-1720965600@ivaplants.co.uk
SUMMARY:The Food Market Chiswick
DESCRIPTION:Find IVA Plants at Food Market Chiswick – 14 July 2024 \nIVA Plants will be at the Food Market Chiswick on Sunday\, 14 July 2024\, offering our signature collection of hand-blended teas. Held at The Pavilion\, Chiswick\, W4 2RX\, the market is open from 10am to 2pm\, making it an ideal weekend destination for local\, high-quality produce. \nCome and discover our loose-leaf blends made from natural ingredients with no additives. From bold black Ceylon and refreshing Japanese green to calming herbal infusions – there’s something for every tea lover waiting at our stall.
URL:https://ivaplants.co.uk/event/the-food-market-chiswick-14-july-2024-herbal-tea/
LOCATION:The Food Market Chiswick\, Pavilion\, Market Drive\, Chiswick\, W4 2RX\, United Kingdom
CATEGORIES:Chiswick
END:VEVENT
BEGIN:VEVENT
DTSTART;TZID=UTC:20240707T110000
DTEND;TZID=UTC:20240707T163000
DTSTAMP:20260420T024111
CREATED:20250401T121415Z
LAST-MODIFIED:20250401T143857Z
UID:2554-1720350000-1720369800@ivaplants.co.uk
SUMMARY:Duck Pond Market - Chiswick
DESCRIPTION:Meet IVA Plants at Duck Pond Market – Chiswick – 7 July 2024 \nIVA Plants is joining the Duck Pond Market in Chiswick on Sunday\, 7 July 2024\, with our full collection of hand-blended teas. Set in the beautiful grounds of Chiswick House\, the market takes place on Duke’s Avenue\, W4 2QN\, and runs from 11am to 4:30pm\, featuring ethical\, local and artisan producers. \nWe’ll be bringing our naturally crafted loose-leaf teas\, made without additives and blended by hand in the UK. Whether you’re after bold black Ceylon\, delicate Japanese green\, or soothing herbal infusions\, we’ve got a tea you’ll love. \n📍 Duck Pond Market – Chiswick📅 Sunday\, 7 July 2024🕚 11am to 4:30pm📌 Duke’s Avenue\, Chiswick House\, London W4 2QN \nCome and enjoy a lovely day out with good food\, community spirit\, and exceptional tea.
URL:https://ivaplants.co.uk/event/duck-pond-market-chiswick-07-july-2024-tea/
LOCATION:Duck Pond Market – Chiswick\, Chiswick House and Gardens\, Chiswick\, W4 2QN\, United Kingdom
CATEGORIES:Chiswick
END:VEVENT
BEGIN:VEVENT
DTSTART;TZID=UTC:20240630T110000
DTEND;TZID=UTC:20240630T163000
DTSTAMP:20260420T024111
CREATED:20240623T100051Z
LAST-MODIFIED:20250401T144014Z
UID:2450-1719745200-1719765000@ivaplants.co.uk
SUMMARY:Duck Pond Market - Richmond
DESCRIPTION:IVA Plants at Duck Pond Market – Richmond – 30 June 2024 \nJoin IVA Plants at the vibrant Duck Pond Market in Richmond on Sunday\, 30 June 2024\, where we’ll be sharing our hand-blended selection of teas. The market\, known for its focus on ethical\, eco-friendly\, and artisan producers\, runs from 11am to 4:30pm and takes place in the heart of Richmond. \nWe’ll be bringing our full range of loose-leaf teas\, made from natural ingredients with no additives. Explore our herbal infusions – all crafted with care and blended by hand in the UK. \n📍 Duck Pond Market – Richmond📅 Sunday\, 30 June 2024🕙 11am to 4:30pm📌 Heron Square\, Richmond TW9 1EP \nWe’re looking forward to welcoming tea lovers from the local community and beyond!
URL:https://ivaplants.co.uk/event/duck-pond-market-richmond-30-june-2024-herbal-tea/
LOCATION:Duck Pond Marker – Richmond\, Heron Square\, Hill St\, Richmond\, TW9 1EP\, United Kingdom
CATEGORIES:Richmond
END:VEVENT
BEGIN:VEVENT
DTSTART;TZID=UTC:20240623T100000
DTEND;TZID=UTC:20240623T140000
DTSTAMP:20260420T024111
CREATED:20250401T104447Z
LAST-MODIFIED:20250401T144031Z
UID:2517-1719136800-1719151200@ivaplants.co.uk
SUMMARY:The Food Market Chiswick
DESCRIPTION:Find IVA Plants at Food Market Chiswick – 23 June 2024 \nIVA Plants is joining the Food Market Chiswick on Sunday\, 23 June 2024\, bringing our hand-blended herbal\, green\, and black teas to West London. The market takes place at The Pavilion\, Chiswick\, W4 2RX\, and runs from 10am to 2pm — a perfect Sunday spot for discovering local\, high-quality produce. \nStop by to explore our range of loose-leaf teas\, crafted from natural ingredients with no additives. Whether you’re looking for a soothing herbal blend\, a refreshing green tea\, or a bold black Ceylon\, you’ll find something special at our stall.
URL:https://ivaplants.co.uk/event/food-market-chiswick-23-june-2024-herbal-tea/
LOCATION:The Food Market Chiswick\, Pavilion\, Market Drive\, Chiswick\, W4 2RX\, United Kingdom
CATEGORIES:Chiswick
END:VEVENT
BEGIN:VEVENT
DTSTART;TZID=UTC:20240525T100000
DTEND;TZID=UTC:20240527T170000
DTSTAMP:20260420T024111
CREATED:20250401T183549Z
LAST-MODIFIED:20250401T183556Z
UID:2749-1716631200-1716829200@ivaplants.co.uk
SUMMARY:The Foodies Festival - Syon Park\, London
DESCRIPTION:Join IVA Plants at Foodies Festival London – Syon Park – 25–27 May 2024 \nIVA Plants is excited to be part of the Foodies Festival at Syon Park from Saturday\, 25 May to Monday\, 27 May 2024. This premier food and drink event brings together food lovers\, local producers\, and craft makers for a weekend of delicious discovery. \n📅 Saturday\, 25 May – 10:00am to 6:00pm📅 Sunday\, 26 May – 10:00am to 6:00pm📅 Monday\, 27 May – 10:00am to 5:00pm \nYou’ll find us at our stall at the Artisan Farmers Market within the festival\, where we’ll be showcasing our hand-blended herbal teas and cooking herbs. Whether you’re looking for refreshing herbal infusions or fresh herbs for your kitchen\, we’ve got something to suit every taste. \n📍 Foodies Festival – Syon Park📌 Syon Park\, Brentford\, London \nCome visit our stall to sample our exceptional herbal teas\, learn about our cooking herbs\, and take advantage of exclusive event offers.
URL:https://ivaplants.co.uk/event/the-foodies-festival-syon-park-london-2024/
LOCATION:The Foodies Festival @ Syon Park\, London\, Syon Park\, Brent Lea\, Brentford\, TW8 8JF\, United Kingdom
CATEGORIES:London
END:VEVENT
END:VCALENDAR